BEGIN:VCALENDAR
VERSION:2.0
PRODID:-//Op onze plek - voedselbos, ontmoetingsplek en recreatie - ECPv6.15.17.1//NONSGML v1.0//EN
CALSCALE:GREGORIAN
METHOD:PUBLISH
X-WR-CALNAME:Op onze plek - voedselbos, ontmoetingsplek en recreatie
X-ORIGINAL-URL:https://oponzeplek.com
X-WR-CALDESC:Evenementen voor Op onze plek - voedselbos, ontmoetingsplek en recreatie
REFRESH-INTERVAL;VALUE=DURATION:PT1H
X-Robots-Tag:noindex
X-PUBLISHED-TTL:PT1H
BEGIN:VTIMEZONE
TZID:Europe/Paris
BEGIN:DAYLIGHT
TZOFFSETFROM:+0100
TZOFFSETTO:+0200
TZNAME:CEST
DTSTART:20250330T010000
END:DAYLIGHT
BEGIN:STANDARD
TZOFFSETFROM:+0200
TZOFFSETTO:+0100
TZNAME:CET
DTSTART:20251026T010000
END:STANDARD
BEGIN:DAYLIGHT
TZOFFSETFROM:+0100
TZOFFSETTO:+0200
TZNAME:CEST
DTSTART:20260329T010000
END:DAYLIGHT
BEGIN:STANDARD
TZOFFSETFROM:+0200
TZOFFSETTO:+0100
TZNAME:CET
DTSTART:20261025T010000
END:STANDARD
BEGIN:DAYLIGHT
TZOFFSETFROM:+0100
TZOFFSETTO:+0200
TZNAME:CEST
DTSTART:20270328T010000
END:DAYLIGHT
BEGIN:STANDARD
TZOFFSETFROM:+0200
TZOFFSETTO:+0100
TZNAME:CET
DTSTART:20271031T010000
END:STANDARD
END:VTIMEZONE
BEGIN:VEVENT
DTSTART;TZID=Europe/Paris:20260516T100000
DTEND;TZID=Europe/Paris:20260516T150000
DTSTAMP:20260421T103404
CREATED:20260316T195931Z
LAST-MODIFIED:20260316T195931Z
UID:588-1778925600-1778943600@oponzeplek.com
SUMMARY:Meewerkdag 16 mei
DESCRIPTION:De meewerkdag is een mooie gelegenheid om\, als je dat nog niet gedaan hebt\, kennis te maken met ons en onze plek en samen stappen te zetten in het realiseren van onze plannen om van onze plek een bloeiplaats te maken die bijdraagt aan een gezonde\, leefbare en toekomstbestendige wereld. \nProgramma:\n10.00 uur start met koffie/thee en lekkers\n10.30 uur aan de slag\n12.00 uur lunch: wij zorgen voor een soepje en een broodje\n12.30 uur aan de slag\n14.00 uur afronden\n15.00 uur einde \nDoe je mee? Leuk! Meld je aan via: info@oponzeplek.com\, dan weten we dat je komt.
URL:https://oponzeplek.com/activiteit/meewerkdag-16-mei/
LOCATION:Op onze plek\, Hauwert 127\, Hauwert\, 1691 ED\, Netherlands
ORGANIZER;CN="Op onze plek":MAILTO:info@oponzeplek.com
END:VEVENT
END:VCALENDAR